BEGIN:VCALENDAR
VERSION:2.0
PRODID:-//hacksw/handcal//NONSGML v1.0//EN
BEGIN:VEVENT
DTSTAMP:20250723T163000Z
DTSTART:20250723T163000Z
DTEND:20250723T163000Z
SUMMARY:Mitgliederversammlung CDU-Stadtverband Dormagen
END:VEVENT
END:VCALENDAR
